BEGIN:VCALENDAR
VERSION:2.0
PRODID:-//Montfort Renaissance - ECPv6.15.17.1//NONSGML v1.0//EN
CALSCALE:GREGORIAN
METHOD:PUBLISH
X-WR-CALNAME:Montfort Renaissance
X-ORIGINAL-URL:https://montfortrenaissance.ca/en/
X-WR-CALDESC:Events for Montfort Renaissance
REFRESH-INTERVAL;VALUE=DURATION:PT1H
X-Robots-Tag:noindex
X-PUBLISHED-TTL:PT1H
BEGIN:VTIMEZONE
TZID:America/Toronto
BEGIN:DAYLIGHT
TZOFFSETFROM:-0500
TZOFFSETTO:-0400
TZNAME:EDT
DTSTART:20250309T070000
END:DAYLIGHT
BEGIN:STANDARD
TZOFFSETFROM:-0400
TZOFFSETTO:-0500
TZNAME:EST
DTSTART:20251102T060000
END:STANDARD
BEGIN:DAYLIGHT
TZOFFSETFROM:-0500
TZOFFSETTO:-0400
TZNAME:EDT
DTSTART:20260308T070000
END:DAYLIGHT
BEGIN:STANDARD
TZOFFSETFROM:-0400
TZOFFSETTO:-0500
TZNAME:EST
DTSTART:20261101T060000
END:STANDARD
BEGIN:DAYLIGHT
TZOFFSETFROM:-0500
TZOFFSETTO:-0400
TZNAME:EDT
DTSTART:20270314T070000
END:DAYLIGHT
BEGIN:STANDARD
TZOFFSETFROM:-0400
TZOFFSETTO:-0500
TZNAME:EST
DTSTART:20271107T060000
END:STANDARD
END:VTIMEZONE
BEGIN:VEVENT
DTSTART;TZID=America/Toronto:20260601T093000
DTEND;TZID=America/Toronto:20260601T100000
DTSTAMP:20260421T060634
CREATED:20260410T132341Z
LAST-MODIFIED:20260410T132341Z
UID:10005816-1780306200-1780308000@montfortrenaissance.ca
SUMMARY:Méditation
DESCRIPTION:
URL:https://montfortrenaissance.ca/en/event/meditation-11/2026-06-01/
LOCATION:Ateliers de l’Élan\, 346 ch. Montréal\, Ottawa\, ON\, K1L 6B3\, Canada
CATEGORIES:Les Ateliers de l'Élan
ORGANIZER;CN="Chantale Lavoie":MAILTO:PSM-pair-aidance@mri.ca
END:VEVENT
BEGIN:VEVENT
DTSTART;TZID=America/Toronto:20260601T100000
DTEND;TZID=America/Toronto:20260601T120000
DTSTAMP:20260421T060634
CREATED:20260410T132423Z
LAST-MODIFIED:20260410T132423Z
UID:10005871-1780308000-1780315200@montfortrenaissance.ca
SUMMARY:Comité journal «Viv(r)e l'Élan»
DESCRIPTION:
URL:https://montfortrenaissance.ca/en/event/comite-journal-vivre-lelan-9/2026-06-01/
LOCATION:Ateliers de l’Élan\, 346 ch. Montréal\, Ottawa\, ON\, K1L 6B3\, Canada
CATEGORIES:Les Ateliers de l'Élan
ORGANIZER;CN="Mario B%C3%A9lisle":MAILTO:mbelisle@mri.ca
END:VEVENT
BEGIN:VEVENT
DTSTART;TZID=America/Toronto:20260602T090000
DTEND;TZID=America/Toronto:20260602T100000
DTSTAMP:20260421T060634
CREATED:20260122T142025Z
LAST-MODIFIED:20260122T142025Z
UID:10004992-1780390800-1780394400@montfortrenaissance.ca
SUMMARY:Réunion des employés.
DESCRIPTION:
URL:https://montfortrenaissance.ca/en/event/reunion-des-employes-2/2026-06-02/
LOCATION:Ateliers de l’Élan\, 346 ch. Montréal\, Ottawa\, ON\, K1L 6B3\, Canada
ORGANIZER;CN="Mario B%C3%A9lisle":MAILTO:mbelisle@mri.ca
END:VEVENT
BEGIN:VEVENT
DTSTART;TZID=America/Toronto:20260602T100000
DTEND;TZID=America/Toronto:20260602T120000
DTSTAMP:20260421T060634
CREATED:20260324T185124Z
LAST-MODIFIED:20260415T125052Z
UID:10005728-1780394400-1780401600@montfortrenaissance.ca
SUMMARY:Théâtre-mise en scène d'une pièce inspirée par Winnie l'ourson (R)
DESCRIPTION:
URL:https://montfortrenaissance.ca/en/event/theatre-mise-en-scene-dune-piece-inspiree-par-winnie-lourson-r/2026-06-02/
LOCATION:Ateliers de l’Élan\, 346 ch. Montréal\, Ottawa\, ON\, K1L 6B3\, Canada
ORGANIZER;CN="Mario B%C3%A9lisle":MAILTO:mbelisle@mri.ca
END:VEVENT
BEGIN:VEVENT
DTSTART;TZID=America/Toronto:20260602T120000
DTEND;TZID=America/Toronto:20260602T130000
DTSTAMP:20260421T060634
CREATED:20260410T142212Z
LAST-MODIFIED:20260410T142212Z
UID:10005996-1780401600-1780405200@montfortrenaissance.ca
SUMMARY:Aire ouverte
DESCRIPTION:
URL:https://montfortrenaissance.ca/en/event/aire-ouverte-97/2026-06-02/
LOCATION:Ateliers de l’Élan\, 346 ch. Montréal\, Ottawa\, ON\, K1L 6B3\, Canada
CATEGORIES:Les Ateliers de l'Élan
ORGANIZER;CN="Mario B%C3%A9lisle":MAILTO:mbelisle@mri.ca
END:VEVENT
BEGIN:VEVENT
DTSTART;TZID=America/Toronto:20260602T130000
DTEND;TZID=America/Toronto:20260602T150000
DTSTAMP:20260421T060634
CREATED:20260410T142357Z
LAST-MODIFIED:20260410T142924Z
UID:10006056-1780405200-1780412400@montfortrenaissance.ca
SUMMARY:Art avec Josie-dessin
DESCRIPTION:
URL:https://montfortrenaissance.ca/en/event/art-avec-josie-dessin-3/2026-06-02/
LOCATION:Ateliers de l’Élan\, 346 ch. Montréal\, Ottawa\, ON\, K1L 6B3\, Canada
CATEGORIES:Les Ateliers de l'Élan
END:VEVENT
BEGIN:VEVENT
DTSTART;TZID=America/Toronto:20260604T120000
DTEND;TZID=America/Toronto:20260604T130000
DTSTAMP:20260421T060634
CREATED:20260413T174742Z
LAST-MODIFIED:20260413T174742Z
UID:10006154-1780574400-1780578000@montfortrenaissance.ca
SUMMARY:Aire ouverte
DESCRIPTION:
URL:https://montfortrenaissance.ca/en/event/aire-ouverte-101/2026-06-04/
LOCATION:Ateliers de l’Élan\, 346 ch. Montréal\, Ottawa\, ON\, K1L 6B3\, Canada
CATEGORIES:Les Ateliers de l'Élan
END:VEVENT
BEGIN:VEVENT
DTSTART;TZID=America/Toronto:20260608T093000
DTEND;TZID=America/Toronto:20260608T100000
DTSTAMP:20260421T060635
CREATED:20260410T132341Z
LAST-MODIFIED:20260410T132341Z
UID:10005817-1780911000-1780912800@montfortrenaissance.ca
SUMMARY:Méditation
DESCRIPTION:
URL:https://montfortrenaissance.ca/en/event/meditation-11/2026-06-08/
LOCATION:Ateliers de l’Élan\, 346 ch. Montréal\, Ottawa\, ON\, K1L 6B3\, Canada
CATEGORIES:Les Ateliers de l'Élan
ORGANIZER;CN="Chantale Lavoie":MAILTO:PSM-pair-aidance@mri.ca
END:VEVENT
BEGIN:VEVENT
DTSTART;TZID=America/Toronto:20260608T100000
DTEND;TZID=America/Toronto:20260608T120000
DTSTAMP:20260421T060635
CREATED:20260410T132423Z
LAST-MODIFIED:20260410T132423Z
UID:10005872-1780912800-1780920000@montfortrenaissance.ca
SUMMARY:Comité journal «Viv(r)e l'Élan»
DESCRIPTION:
URL:https://montfortrenaissance.ca/en/event/comite-journal-vivre-lelan-9/2026-06-08/
LOCATION:Ateliers de l’Élan\, 346 ch. Montréal\, Ottawa\, ON\, K1L 6B3\, Canada
CATEGORIES:Les Ateliers de l'Élan
ORGANIZER;CN="Mario B%C3%A9lisle":MAILTO:mbelisle@mri.ca
END:VEVENT
BEGIN:VEVENT
DTSTART;TZID=America/Toronto:20260609T090000
DTEND;TZID=America/Toronto:20260609T100000
DTSTAMP:20260421T060635
CREATED:20260122T142025Z
LAST-MODIFIED:20260122T142025Z
UID:10004993-1780995600-1780999200@montfortrenaissance.ca
SUMMARY:Réunion des employés.
DESCRIPTION:
URL:https://montfortrenaissance.ca/en/event/reunion-des-employes-2/2026-06-09/
LOCATION:Ateliers de l’Élan\, 346 ch. Montréal\, Ottawa\, ON\, K1L 6B3\, Canada
ORGANIZER;CN="Mario B%C3%A9lisle":MAILTO:mbelisle@mri.ca
END:VEVENT
BEGIN:VEVENT
DTSTART;TZID=America/Toronto:20260609T100000
DTEND;TZID=America/Toronto:20260609T120000
DTSTAMP:20260421T060635
CREATED:20260324T185124Z
LAST-MODIFIED:20260415T125052Z
UID:10005729-1780999200-1781006400@montfortrenaissance.ca
SUMMARY:Théâtre-mise en scène d'une pièce inspirée par Winnie l'ourson (R)
DESCRIPTION:
URL:https://montfortrenaissance.ca/en/event/theatre-mise-en-scene-dune-piece-inspiree-par-winnie-lourson-r/2026-06-09/
LOCATION:Ateliers de l’Élan\, 346 ch. Montréal\, Ottawa\, ON\, K1L 6B3\, Canada
ORGANIZER;CN="Mario B%C3%A9lisle":MAILTO:mbelisle@mri.ca
END:VEVENT
BEGIN:VEVENT
DTSTART;TZID=America/Toronto:20260609T120000
DTEND;TZID=America/Toronto:20260609T130000
DTSTAMP:20260421T060635
CREATED:20260410T142212Z
LAST-MODIFIED:20260410T142212Z
UID:10005997-1781006400-1781010000@montfortrenaissance.ca
SUMMARY:Aire ouverte
DESCRIPTION:
URL:https://montfortrenaissance.ca/en/event/aire-ouverte-97/2026-06-09/
LOCATION:Ateliers de l’Élan\, 346 ch. Montréal\, Ottawa\, ON\, K1L 6B3\, Canada
CATEGORIES:Les Ateliers de l'Élan
ORGANIZER;CN="Mario B%C3%A9lisle":MAILTO:mbelisle@mri.ca
END:VEVENT
BEGIN:VEVENT
DTSTART;TZID=America/Toronto:20260609T130000
DTEND;TZID=America/Toronto:20260609T150000
DTSTAMP:20260421T060635
CREATED:20260410T142357Z
LAST-MODIFIED:20260410T142924Z
UID:10006057-1781010000-1781017200@montfortrenaissance.ca
SUMMARY:Art avec Josie-dessin
DESCRIPTION:
URL:https://montfortrenaissance.ca/en/event/art-avec-josie-dessin-3/2026-06-09/
LOCATION:Ateliers de l’Élan\, 346 ch. Montréal\, Ottawa\, ON\, K1L 6B3\, Canada
CATEGORIES:Les Ateliers de l'Élan
END:VEVENT
BEGIN:VEVENT
DTSTART;TZID=America/Toronto:20260611T120000
DTEND;TZID=America/Toronto:20260611T130000
DTSTAMP:20260421T060635
CREATED:20260413T174742Z
LAST-MODIFIED:20260413T174742Z
UID:10006155-1781179200-1781182800@montfortrenaissance.ca
SUMMARY:Aire ouverte
DESCRIPTION:
URL:https://montfortrenaissance.ca/en/event/aire-ouverte-101/2026-06-11/
LOCATION:Ateliers de l’Élan\, 346 ch. Montréal\, Ottawa\, ON\, K1L 6B3\, Canada
CATEGORIES:Les Ateliers de l'Élan
END:VEVENT
BEGIN:VEVENT
DTSTART;TZID=America/Toronto:20260615T093000
DTEND;TZID=America/Toronto:20260615T100000
DTSTAMP:20260421T060635
CREATED:20260410T132341Z
LAST-MODIFIED:20260410T132341Z
UID:10005818-1781515800-1781517600@montfortrenaissance.ca
SUMMARY:Méditation
DESCRIPTION:
URL:https://montfortrenaissance.ca/en/event/meditation-11/2026-06-15/
LOCATION:Ateliers de l’Élan\, 346 ch. Montréal\, Ottawa\, ON\, K1L 6B3\, Canada
CATEGORIES:Les Ateliers de l'Élan
ORGANIZER;CN="Chantale Lavoie":MAILTO:PSM-pair-aidance@mri.ca
END:VEVENT
BEGIN:VEVENT
DTSTART;TZID=America/Toronto:20260615T100000
DTEND;TZID=America/Toronto:20260615T120000
DTSTAMP:20260421T060635
CREATED:20260410T132423Z
LAST-MODIFIED:20260410T132423Z
UID:10005873-1781517600-1781524800@montfortrenaissance.ca
SUMMARY:Comité journal «Viv(r)e l'Élan»
DESCRIPTION:
URL:https://montfortrenaissance.ca/en/event/comite-journal-vivre-lelan-9/2026-06-15/
LOCATION:Ateliers de l’Élan\, 346 ch. Montréal\, Ottawa\, ON\, K1L 6B3\, Canada
CATEGORIES:Les Ateliers de l'Élan
ORGANIZER;CN="Mario B%C3%A9lisle":MAILTO:mbelisle@mri.ca
END:VEVENT
BEGIN:VEVENT
DTSTART;TZID=America/Toronto:20260616T090000
DTEND;TZID=America/Toronto:20260616T100000
DTSTAMP:20260421T060635
CREATED:20260122T142025Z
LAST-MODIFIED:20260122T142025Z
UID:10004994-1781600400-1781604000@montfortrenaissance.ca
SUMMARY:Réunion des employés.
DESCRIPTION:
URL:https://montfortrenaissance.ca/en/event/reunion-des-employes-2/2026-06-16/
LOCATION:Ateliers de l’Élan\, 346 ch. Montréal\, Ottawa\, ON\, K1L 6B3\, Canada
ORGANIZER;CN="Mario B%C3%A9lisle":MAILTO:mbelisle@mri.ca
END:VEVENT
BEGIN:VEVENT
DTSTART;TZID=America/Toronto:20260616T100000
DTEND;TZID=America/Toronto:20260616T120000
DTSTAMP:20260421T060635
CREATED:20260324T185124Z
LAST-MODIFIED:20260415T125052Z
UID:10005730-1781604000-1781611200@montfortrenaissance.ca
SUMMARY:Théâtre-mise en scène d'une pièce inspirée par Winnie l'ourson (R)
DESCRIPTION:
URL:https://montfortrenaissance.ca/en/event/theatre-mise-en-scene-dune-piece-inspiree-par-winnie-lourson-r/2026-06-16/
LOCATION:Ateliers de l’Élan\, 346 ch. Montréal\, Ottawa\, ON\, K1L 6B3\, Canada
ORGANIZER;CN="Mario B%C3%A9lisle":MAILTO:mbelisle@mri.ca
END:VEVENT
BEGIN:VEVENT
DTSTART;TZID=America/Toronto:20260616T120000
DTEND;TZID=America/Toronto:20260616T130000
DTSTAMP:20260421T060635
CREATED:20260410T142212Z
LAST-MODIFIED:20260410T142212Z
UID:10005998-1781611200-1781614800@montfortrenaissance.ca
SUMMARY:Aire ouverte
DESCRIPTION:
URL:https://montfortrenaissance.ca/en/event/aire-ouverte-97/2026-06-16/
LOCATION:Ateliers de l’Élan\, 346 ch. Montréal\, Ottawa\, ON\, K1L 6B3\, Canada
CATEGORIES:Les Ateliers de l'Élan
ORGANIZER;CN="Mario B%C3%A9lisle":MAILTO:mbelisle@mri.ca
END:VEVENT
BEGIN:VEVENT
DTSTART;TZID=America/Toronto:20260616T130000
DTEND;TZID=America/Toronto:20260616T150000
DTSTAMP:20260421T060635
CREATED:20260410T142357Z
LAST-MODIFIED:20260410T142924Z
UID:10006058-1781614800-1781622000@montfortrenaissance.ca
SUMMARY:Art avec Josie-dessin
DESCRIPTION:
URL:https://montfortrenaissance.ca/en/event/art-avec-josie-dessin-3/2026-06-16/
LOCATION:Ateliers de l’Élan\, 346 ch. Montréal\, Ottawa\, ON\, K1L 6B3\, Canada
CATEGORIES:Les Ateliers de l'Élan
END:VEVENT
BEGIN:VEVENT
DTSTART;TZID=America/Toronto:20260618T120000
DTEND;TZID=America/Toronto:20260618T130000
DTSTAMP:20260421T060635
CREATED:20260413T174742Z
LAST-MODIFIED:20260413T174742Z
UID:10006156-1781784000-1781787600@montfortrenaissance.ca
SUMMARY:Aire ouverte
DESCRIPTION:
URL:https://montfortrenaissance.ca/en/event/aire-ouverte-101/2026-06-18/
LOCATION:Ateliers de l’Élan\, 346 ch. Montréal\, Ottawa\, ON\, K1L 6B3\, Canada
CATEGORIES:Les Ateliers de l'Élan
END:VEVENT
BEGIN:VEVENT
DTSTART;TZID=America/Toronto:20260622T093000
DTEND;TZID=America/Toronto:20260622T100000
DTSTAMP:20260421T060635
CREATED:20260410T132341Z
LAST-MODIFIED:20260410T132341Z
UID:10005819-1782120600-1782122400@montfortrenaissance.ca
SUMMARY:Méditation
DESCRIPTION:
URL:https://montfortrenaissance.ca/en/event/meditation-11/2026-06-22/
LOCATION:Ateliers de l’Élan\, 346 ch. Montréal\, Ottawa\, ON\, K1L 6B3\, Canada
CATEGORIES:Les Ateliers de l'Élan
ORGANIZER;CN="Chantale Lavoie":MAILTO:PSM-pair-aidance@mri.ca
END:VEVENT
BEGIN:VEVENT
DTSTART;TZID=America/Toronto:20260622T100000
DTEND;TZID=America/Toronto:20260622T120000
DTSTAMP:20260421T060635
CREATED:20260410T132423Z
LAST-MODIFIED:20260410T132423Z
UID:10005874-1782122400-1782129600@montfortrenaissance.ca
SUMMARY:Comité journal «Viv(r)e l'Élan»
DESCRIPTION:
URL:https://montfortrenaissance.ca/en/event/comite-journal-vivre-lelan-9/2026-06-22/
LOCATION:Ateliers de l’Élan\, 346 ch. Montréal\, Ottawa\, ON\, K1L 6B3\, Canada
CATEGORIES:Les Ateliers de l'Élan
ORGANIZER;CN="Mario B%C3%A9lisle":MAILTO:mbelisle@mri.ca
END:VEVENT
BEGIN:VEVENT
DTSTART;TZID=America/Toronto:20260623T090000
DTEND;TZID=America/Toronto:20260623T100000
DTSTAMP:20260421T060635
CREATED:20260122T142025Z
LAST-MODIFIED:20260122T142025Z
UID:10004995-1782205200-1782208800@montfortrenaissance.ca
SUMMARY:Réunion des employés.
DESCRIPTION:
URL:https://montfortrenaissance.ca/en/event/reunion-des-employes-2/2026-06-23/
LOCATION:Ateliers de l’Élan\, 346 ch. Montréal\, Ottawa\, ON\, K1L 6B3\, Canada
ORGANIZER;CN="Mario B%C3%A9lisle":MAILTO:mbelisle@mri.ca
END:VEVENT
BEGIN:VEVENT
DTSTART;TZID=America/Toronto:20260623T100000
DTEND;TZID=America/Toronto:20260623T120000
DTSTAMP:20260421T060635
CREATED:20260324T185124Z
LAST-MODIFIED:20260415T125052Z
UID:10005731-1782208800-1782216000@montfortrenaissance.ca
SUMMARY:Théâtre-mise en scène d'une pièce inspirée par Winnie l'ourson (R)
DESCRIPTION:
URL:https://montfortrenaissance.ca/en/event/theatre-mise-en-scene-dune-piece-inspiree-par-winnie-lourson-r/2026-06-23/
LOCATION:Ateliers de l’Élan\, 346 ch. Montréal\, Ottawa\, ON\, K1L 6B3\, Canada
ORGANIZER;CN="Mario B%C3%A9lisle":MAILTO:mbelisle@mri.ca
END:VEVENT
BEGIN:VEVENT
DTSTART;TZID=America/Toronto:20260623T120000
DTEND;TZID=America/Toronto:20260623T130000
DTSTAMP:20260421T060635
CREATED:20260410T142212Z
LAST-MODIFIED:20260410T142212Z
UID:10005999-1782216000-1782219600@montfortrenaissance.ca
SUMMARY:Aire ouverte
DESCRIPTION:
URL:https://montfortrenaissance.ca/en/event/aire-ouverte-97/2026-06-23/
LOCATION:Ateliers de l’Élan\, 346 ch. Montréal\, Ottawa\, ON\, K1L 6B3\, Canada
CATEGORIES:Les Ateliers de l'Élan
ORGANIZER;CN="Mario B%C3%A9lisle":MAILTO:mbelisle@mri.ca
END:VEVENT
BEGIN:VEVENT
DTSTART;TZID=America/Toronto:20260623T130000
DTEND;TZID=America/Toronto:20260623T150000
DTSTAMP:20260421T060635
CREATED:20260410T142357Z
LAST-MODIFIED:20260410T142924Z
UID:10006059-1782219600-1782226800@montfortrenaissance.ca
SUMMARY:Art avec Josie-dessin
DESCRIPTION:
URL:https://montfortrenaissance.ca/en/event/art-avec-josie-dessin-3/2026-06-23/
LOCATION:Ateliers de l’Élan\, 346 ch. Montréal\, Ottawa\, ON\, K1L 6B3\, Canada
CATEGORIES:Les Ateliers de l'Élan
END:VEVENT
BEGIN:VEVENT
DTSTART;TZID=America/Toronto:20260625T120000
DTEND;TZID=America/Toronto:20260625T130000
DTSTAMP:20260421T060635
CREATED:20260413T174742Z
LAST-MODIFIED:20260413T174742Z
UID:10006157-1782388800-1782392400@montfortrenaissance.ca
SUMMARY:Aire ouverte
DESCRIPTION:
URL:https://montfortrenaissance.ca/en/event/aire-ouverte-101/2026-06-25/
LOCATION:Ateliers de l’Élan\, 346 ch. Montréal\, Ottawa\, ON\, K1L 6B3\, Canada
CATEGORIES:Les Ateliers de l'Élan
END:VEVENT
BEGIN:VEVENT
DTSTART;TZID=America/Toronto:20260629T093000
DTEND;TZID=America/Toronto:20260629T100000
DTSTAMP:20260421T060635
CREATED:20260410T132341Z
LAST-MODIFIED:20260410T132341Z
UID:10005820-1782725400-1782727200@montfortrenaissance.ca
SUMMARY:Méditation
DESCRIPTION:
URL:https://montfortrenaissance.ca/en/event/meditation-11/2026-06-29/
LOCATION:Ateliers de l’Élan\, 346 ch. Montréal\, Ottawa\, ON\, K1L 6B3\, Canada
CATEGORIES:Les Ateliers de l'Élan
ORGANIZER;CN="Chantale Lavoie":MAILTO:PSM-pair-aidance@mri.ca
END:VEVENT
BEGIN:VEVENT
DTSTART;TZID=America/Toronto:20260629T100000
DTEND;TZID=America/Toronto:20260629T120000
DTSTAMP:20260421T060635
CREATED:20260410T132423Z
LAST-MODIFIED:20260410T132423Z
UID:10005875-1782727200-1782734400@montfortrenaissance.ca
SUMMARY:Comité journal «Viv(r)e l'Élan»
DESCRIPTION:
URL:https://montfortrenaissance.ca/en/event/comite-journal-vivre-lelan-9/2026-06-29/
LOCATION:Ateliers de l’Élan\, 346 ch. Montréal\, Ottawa\, ON\, K1L 6B3\, Canada
CATEGORIES:Les Ateliers de l'Élan
ORGANIZER;CN="Mario B%C3%A9lisle":MAILTO:mbelisle@mri.ca
END:VEVENT
END:VCALENDAR