BEGIN:VCALENDAR
VERSION:2.0
PRODID:-//Montfort Renaissance - ECPv6.15.17.1//NONSGML v1.0//EN
CALSCALE:GREGORIAN
METHOD:PUBLISH
X-ORIGINAL-URL:https://montfortrenaissance.ca/en/
X-WR-CALDESC:Events for Montfort Renaissance
REFRESH-INTERVAL;VALUE=DURATION:PT1H
X-Robots-Tag:noindex
X-PUBLISHED-TTL:PT1H
BEGIN:VTIMEZONE
TZID:America/Toronto
BEGIN:DAYLIGHT
TZOFFSETFROM:-0500
TZOFFSETTO:-0400
TZNAME:EDT
DTSTART:20250309T070000
END:DAYLIGHT
BEGIN:STANDARD
TZOFFSETFROM:-0400
TZOFFSETTO:-0500
TZNAME:EST
DTSTART:20251102T060000
END:STANDARD
BEGIN:DAYLIGHT
TZOFFSETFROM:-0500
TZOFFSETTO:-0400
TZNAME:EDT
DTSTART:20260308T070000
END:DAYLIGHT
BEGIN:STANDARD
TZOFFSETFROM:-0400
TZOFFSETTO:-0500
TZNAME:EST
DTSTART:20261101T060000
END:STANDARD
BEGIN:DAYLIGHT
TZOFFSETFROM:-0500
TZOFFSETTO:-0400
TZNAME:EDT
DTSTART:20270314T070000
END:DAYLIGHT
BEGIN:STANDARD
TZOFFSETFROM:-0400
TZOFFSETTO:-0500
TZNAME:EST
DTSTART:20271107T060000
END:STANDARD
END:VTIMEZONE
BEGIN:VEVENT
DTSTART;TZID=America/Toronto:20260702T120000
DTEND;TZID=America/Toronto:20260702T130000
DTSTAMP:20260421T074457
CREATED:20260413T174742Z
LAST-MODIFIED:20260413T174742Z
UID:10006158-1782993600-1782997200@montfortrenaissance.ca
SUMMARY:Aire ouverte
DESCRIPTION:
URL:https://montfortrenaissance.ca/en/event/aire-ouverte-101/2026-07-02/
LOCATION:Ateliers de l’Élan\, 346 ch. Montréal\, Ottawa\, ON\, K1L 6B3\, Canada
CATEGORIES:Les Ateliers de l'Élan
END:VEVENT
BEGIN:VEVENT
DTSTART;TZID=America/Toronto:20260704T100000
DTEND;TZID=America/Toronto:20260704T120000
DTSTAMP:20260421T074457
CREATED:20260324T183110Z
LAST-MODIFIED:20260324T183111Z
UID:10005632-1783159200-1783166400@montfortrenaissance.ca
SUMMARY:Théâtre-mise en scène d'une pièce inspirée par Winnie l'ourson (R)
DESCRIPTION:
URL:https://montfortrenaissance.ca/en/event/theatre-mise-en-scene-dune-piece-inspiree-par-winnie-lourson-2/2026-07-04/
LOCATION:Ateliers de l’Élan\, 346 ch. Montréal\, Ottawa\, ON\, K1L 6B3\, Canada
ORGANIZER;CN="Mario B%C3%A9lisle":MAILTO:mbelisle@mri.ca
END:VEVENT
BEGIN:VEVENT
DTSTART;TZID=America/Toronto:20260705T090000
DTEND;TZID=America/Toronto:20260705T150000
DTSTAMP:20260421T074457
CREATED:20260410T130238Z
LAST-MODIFIED:20260410T130239Z
UID:10005781-1783242000-1783263600@montfortrenaissance.ca
SUMMARY:Temps d'appels
DESCRIPTION:
URL:https://montfortrenaissance.ca/en/event/temps-dappels-8-2/2026-07-05/
LOCATION:Ateliers de l’Élan\, 346 ch. Montréal\, Ottawa\, ON\, K1L 6B3\, Canada
ORGANIZER;CN="Chantale Lavoie":MAILTO:PSM-pair-aidance@mri.ca
END:VEVENT
BEGIN:VEVENT
DTSTART;TZID=America/Toronto:20260706T093000
DTEND;TZID=America/Toronto:20260706T100000
DTSTAMP:20260421T074457
CREATED:20260410T132341Z
LAST-MODIFIED:20260410T132341Z
UID:10005821-1783330200-1783332000@montfortrenaissance.ca
SUMMARY:Méditation
DESCRIPTION:
URL:https://montfortrenaissance.ca/en/event/meditation-11/2026-07-06/
LOCATION:Ateliers de l’Élan\, 346 ch. Montréal\, Ottawa\, ON\, K1L 6B3\, Canada
CATEGORIES:Les Ateliers de l'Élan
ORGANIZER;CN="Chantale Lavoie":MAILTO:PSM-pair-aidance@mri.ca
END:VEVENT
BEGIN:VEVENT
DTSTART;TZID=America/Toronto:20260706T100000
DTEND;TZID=America/Toronto:20260706T120000
DTSTAMP:20260421T074457
CREATED:20260410T132423Z
LAST-MODIFIED:20260410T132423Z
UID:10005876-1783332000-1783339200@montfortrenaissance.ca
SUMMARY:Comité journal «Viv(r)e l'Élan»
DESCRIPTION:
URL:https://montfortrenaissance.ca/en/event/comite-journal-vivre-lelan-9/2026-07-06/
LOCATION:Ateliers de l’Élan\, 346 ch. Montréal\, Ottawa\, ON\, K1L 6B3\, Canada
CATEGORIES:Les Ateliers de l'Élan
ORGANIZER;CN="Mario B%C3%A9lisle":MAILTO:mbelisle@mri.ca
END:VEVENT
BEGIN:VEVENT
DTSTART;TZID=America/Toronto:20260707T090000
DTEND;TZID=America/Toronto:20260707T100000
DTSTAMP:20260421T074457
CREATED:20260122T142025Z
LAST-MODIFIED:20260122T142025Z
UID:10004997-1783414800-1783418400@montfortrenaissance.ca
SUMMARY:Réunion des employés.
DESCRIPTION:
URL:https://montfortrenaissance.ca/en/event/reunion-des-employes-2/2026-07-07/
LOCATION:Ateliers de l’Élan\, 346 ch. Montréal\, Ottawa\, ON\, K1L 6B3\, Canada
ORGANIZER;CN="Mario B%C3%A9lisle":MAILTO:mbelisle@mri.ca
END:VEVENT
BEGIN:VEVENT
DTSTART;TZID=America/Toronto:20260707T100000
DTEND;TZID=America/Toronto:20260707T120000
DTSTAMP:20260421T074457
CREATED:20260324T185124Z
LAST-MODIFIED:20260415T125052Z
UID:10005733-1783418400-1783425600@montfortrenaissance.ca
SUMMARY:Théâtre-mise en scène d'une pièce inspirée par Winnie l'ourson (R)
DESCRIPTION:
URL:https://montfortrenaissance.ca/en/event/theatre-mise-en-scene-dune-piece-inspiree-par-winnie-lourson-r/2026-07-07/
LOCATION:Ateliers de l’Élan\, 346 ch. Montréal\, Ottawa\, ON\, K1L 6B3\, Canada
ORGANIZER;CN="Mario B%C3%A9lisle":MAILTO:mbelisle@mri.ca
END:VEVENT
BEGIN:VEVENT
DTSTART;TZID=America/Toronto:20260707T120000
DTEND;TZID=America/Toronto:20260707T130000
DTSTAMP:20260421T074457
CREATED:20260410T142212Z
LAST-MODIFIED:20260410T142212Z
UID:10006001-1783425600-1783429200@montfortrenaissance.ca
SUMMARY:Aire ouverte
DESCRIPTION:
URL:https://montfortrenaissance.ca/en/event/aire-ouverte-97/2026-07-07/
LOCATION:Ateliers de l’Élan\, 346 ch. Montréal\, Ottawa\, ON\, K1L 6B3\, Canada
CATEGORIES:Les Ateliers de l'Élan
ORGANIZER;CN="Mario B%C3%A9lisle":MAILTO:mbelisle@mri.ca
END:VEVENT
BEGIN:VEVENT
DTSTART;TZID=America/Toronto:20260707T130000
DTEND;TZID=America/Toronto:20260707T150000
DTSTAMP:20260421T074457
CREATED:20260410T142357Z
LAST-MODIFIED:20260410T142924Z
UID:10006061-1783429200-1783436400@montfortrenaissance.ca
SUMMARY:Art avec Josie-dessin
DESCRIPTION:
URL:https://montfortrenaissance.ca/en/event/art-avec-josie-dessin-3/2026-07-07/
LOCATION:Ateliers de l’Élan\, 346 ch. Montréal\, Ottawa\, ON\, K1L 6B3\, Canada
CATEGORIES:Les Ateliers de l'Élan
END:VEVENT
BEGIN:VEVENT
DTSTART;TZID=America/Toronto:20260709T120000
DTEND;TZID=America/Toronto:20260709T130000
DTSTAMP:20260421T074457
CREATED:20260413T174742Z
LAST-MODIFIED:20260413T174742Z
UID:10006159-1783598400-1783602000@montfortrenaissance.ca
SUMMARY:Aire ouverte
DESCRIPTION:
URL:https://montfortrenaissance.ca/en/event/aire-ouverte-101/2026-07-09/
LOCATION:Ateliers de l’Élan\, 346 ch. Montréal\, Ottawa\, ON\, K1L 6B3\, Canada
CATEGORIES:Les Ateliers de l'Élan
END:VEVENT
BEGIN:VEVENT
DTSTART;TZID=America/Toronto:20260713T093000
DTEND;TZID=America/Toronto:20260713T100000
DTSTAMP:20260421T074457
CREATED:20260410T132341Z
LAST-MODIFIED:20260410T132341Z
UID:10005822-1783935000-1783936800@montfortrenaissance.ca
SUMMARY:Méditation
DESCRIPTION:
URL:https://montfortrenaissance.ca/en/event/meditation-11/2026-07-13/
LOCATION:Ateliers de l’Élan\, 346 ch. Montréal\, Ottawa\, ON\, K1L 6B3\, Canada
CATEGORIES:Les Ateliers de l'Élan
ORGANIZER;CN="Chantale Lavoie":MAILTO:PSM-pair-aidance@mri.ca
END:VEVENT
BEGIN:VEVENT
DTSTART;TZID=America/Toronto:20260713T100000
DTEND;TZID=America/Toronto:20260713T120000
DTSTAMP:20260421T074457
CREATED:20260410T132423Z
LAST-MODIFIED:20260410T132423Z
UID:10005877-1783936800-1783944000@montfortrenaissance.ca
SUMMARY:Comité journal «Viv(r)e l'Élan»
DESCRIPTION:
URL:https://montfortrenaissance.ca/en/event/comite-journal-vivre-lelan-9/2026-07-13/
LOCATION:Ateliers de l’Élan\, 346 ch. Montréal\, Ottawa\, ON\, K1L 6B3\, Canada
CATEGORIES:Les Ateliers de l'Élan
ORGANIZER;CN="Mario B%C3%A9lisle":MAILTO:mbelisle@mri.ca
END:VEVENT
BEGIN:VEVENT
DTSTART;TZID=America/Toronto:20260714T090000
DTEND;TZID=America/Toronto:20260714T100000
DTSTAMP:20260421T074457
CREATED:20260122T142025Z
LAST-MODIFIED:20260122T142025Z
UID:10004998-1784019600-1784023200@montfortrenaissance.ca
SUMMARY:Réunion des employés.
DESCRIPTION:
URL:https://montfortrenaissance.ca/en/event/reunion-des-employes-2/2026-07-14/
LOCATION:Ateliers de l’Élan\, 346 ch. Montréal\, Ottawa\, ON\, K1L 6B3\, Canada
ORGANIZER;CN="Mario B%C3%A9lisle":MAILTO:mbelisle@mri.ca
END:VEVENT
BEGIN:VEVENT
DTSTART;TZID=America/Toronto:20260714T100000
DTEND;TZID=America/Toronto:20260714T120000
DTSTAMP:20260421T074457
CREATED:20260324T185124Z
LAST-MODIFIED:20260415T125052Z
UID:10005734-1784023200-1784030400@montfortrenaissance.ca
SUMMARY:Théâtre-mise en scène d'une pièce inspirée par Winnie l'ourson (R)
DESCRIPTION:
URL:https://montfortrenaissance.ca/en/event/theatre-mise-en-scene-dune-piece-inspiree-par-winnie-lourson-r/2026-07-14/
LOCATION:Ateliers de l’Élan\, 346 ch. Montréal\, Ottawa\, ON\, K1L 6B3\, Canada
ORGANIZER;CN="Mario B%C3%A9lisle":MAILTO:mbelisle@mri.ca
END:VEVENT
BEGIN:VEVENT
DTSTART;TZID=America/Toronto:20260714T120000
DTEND;TZID=America/Toronto:20260714T130000
DTSTAMP:20260421T074457
CREATED:20260410T142212Z
LAST-MODIFIED:20260410T142212Z
UID:10006002-1784030400-1784034000@montfortrenaissance.ca
SUMMARY:Aire ouverte
DESCRIPTION:
URL:https://montfortrenaissance.ca/en/event/aire-ouverte-97/2026-07-14/
LOCATION:Ateliers de l’Élan\, 346 ch. Montréal\, Ottawa\, ON\, K1L 6B3\, Canada
CATEGORIES:Les Ateliers de l'Élan
ORGANIZER;CN="Mario B%C3%A9lisle":MAILTO:mbelisle@mri.ca
END:VEVENT
BEGIN:VEVENT
DTSTART;TZID=America/Toronto:20260714T130000
DTEND;TZID=America/Toronto:20260714T150000
DTSTAMP:20260421T074457
CREATED:20260410T142357Z
LAST-MODIFIED:20260410T142924Z
UID:10006062-1784034000-1784041200@montfortrenaissance.ca
SUMMARY:Art avec Josie-dessin
DESCRIPTION:
URL:https://montfortrenaissance.ca/en/event/art-avec-josie-dessin-3/2026-07-14/
LOCATION:Ateliers de l’Élan\, 346 ch. Montréal\, Ottawa\, ON\, K1L 6B3\, Canada
CATEGORIES:Les Ateliers de l'Élan
END:VEVENT
BEGIN:VEVENT
DTSTART;TZID=America/Toronto:20260716T120000
DTEND;TZID=America/Toronto:20260716T130000
DTSTAMP:20260421T074457
CREATED:20260413T174742Z
LAST-MODIFIED:20260413T174742Z
UID:10006160-1784203200-1784206800@montfortrenaissance.ca
SUMMARY:Aire ouverte
DESCRIPTION:
URL:https://montfortrenaissance.ca/en/event/aire-ouverte-101/2026-07-16/
LOCATION:Ateliers de l’Élan\, 346 ch. Montréal\, Ottawa\, ON\, K1L 6B3\, Canada
CATEGORIES:Les Ateliers de l'Élan
END:VEVENT
BEGIN:VEVENT
DTSTART;TZID=America/Toronto:20260720T093000
DTEND;TZID=America/Toronto:20260720T100000
DTSTAMP:20260421T074457
CREATED:20260410T132341Z
LAST-MODIFIED:20260410T132341Z
UID:10005823-1784539800-1784541600@montfortrenaissance.ca
SUMMARY:Méditation
DESCRIPTION:
URL:https://montfortrenaissance.ca/en/event/meditation-11/2026-07-20/
LOCATION:Ateliers de l’Élan\, 346 ch. Montréal\, Ottawa\, ON\, K1L 6B3\, Canada
CATEGORIES:Les Ateliers de l'Élan
ORGANIZER;CN="Chantale Lavoie":MAILTO:PSM-pair-aidance@mri.ca
END:VEVENT
BEGIN:VEVENT
DTSTART;TZID=America/Toronto:20260720T100000
DTEND;TZID=America/Toronto:20260720T120000
DTSTAMP:20260421T074457
CREATED:20260410T132423Z
LAST-MODIFIED:20260410T132423Z
UID:10005878-1784541600-1784548800@montfortrenaissance.ca
SUMMARY:Comité journal «Viv(r)e l'Élan»
DESCRIPTION:
URL:https://montfortrenaissance.ca/en/event/comite-journal-vivre-lelan-9/2026-07-20/
LOCATION:Ateliers de l’Élan\, 346 ch. Montréal\, Ottawa\, ON\, K1L 6B3\, Canada
CATEGORIES:Les Ateliers de l'Élan
ORGANIZER;CN="Mario B%C3%A9lisle":MAILTO:mbelisle@mri.ca
END:VEVENT
BEGIN:VEVENT
DTSTART;TZID=America/Toronto:20260721T090000
DTEND;TZID=America/Toronto:20260721T100000
DTSTAMP:20260421T074457
CREATED:20260122T142025Z
LAST-MODIFIED:20260122T142025Z
UID:10004999-1784624400-1784628000@montfortrenaissance.ca
SUMMARY:Réunion des employés.
DESCRIPTION:
URL:https://montfortrenaissance.ca/en/event/reunion-des-employes-2/2026-07-21/
LOCATION:Ateliers de l’Élan\, 346 ch. Montréal\, Ottawa\, ON\, K1L 6B3\, Canada
ORGANIZER;CN="Mario B%C3%A9lisle":MAILTO:mbelisle@mri.ca
END:VEVENT
BEGIN:VEVENT
DTSTART;TZID=America/Toronto:20260721T100000
DTEND;TZID=America/Toronto:20260721T120000
DTSTAMP:20260421T074457
CREATED:20260324T185124Z
LAST-MODIFIED:20260415T125052Z
UID:10005735-1784628000-1784635200@montfortrenaissance.ca
SUMMARY:Théâtre-mise en scène d'une pièce inspirée par Winnie l'ourson (R)
DESCRIPTION:
URL:https://montfortrenaissance.ca/en/event/theatre-mise-en-scene-dune-piece-inspiree-par-winnie-lourson-r/2026-07-21/
LOCATION:Ateliers de l’Élan\, 346 ch. Montréal\, Ottawa\, ON\, K1L 6B3\, Canada
ORGANIZER;CN="Mario B%C3%A9lisle":MAILTO:mbelisle@mri.ca
END:VEVENT
BEGIN:VEVENT
DTSTART;TZID=America/Toronto:20260721T120000
DTEND;TZID=America/Toronto:20260721T130000
DTSTAMP:20260421T074457
CREATED:20260410T142212Z
LAST-MODIFIED:20260410T142212Z
UID:10006003-1784635200-1784638800@montfortrenaissance.ca
SUMMARY:Aire ouverte
DESCRIPTION:
URL:https://montfortrenaissance.ca/en/event/aire-ouverte-97/2026-07-21/
LOCATION:Ateliers de l’Élan\, 346 ch. Montréal\, Ottawa\, ON\, K1L 6B3\, Canada
CATEGORIES:Les Ateliers de l'Élan
ORGANIZER;CN="Mario B%C3%A9lisle":MAILTO:mbelisle@mri.ca
END:VEVENT
BEGIN:VEVENT
DTSTART;TZID=America/Toronto:20260721T130000
DTEND;TZID=America/Toronto:20260721T150000
DTSTAMP:20260421T074457
CREATED:20260410T142357Z
LAST-MODIFIED:20260410T142924Z
UID:10006063-1784638800-1784646000@montfortrenaissance.ca
SUMMARY:Art avec Josie-dessin
DESCRIPTION:
URL:https://montfortrenaissance.ca/en/event/art-avec-josie-dessin-3/2026-07-21/
LOCATION:Ateliers de l’Élan\, 346 ch. Montréal\, Ottawa\, ON\, K1L 6B3\, Canada
CATEGORIES:Les Ateliers de l'Élan
END:VEVENT
BEGIN:VEVENT
DTSTART;TZID=America/Toronto:20260723T120000
DTEND;TZID=America/Toronto:20260723T130000
DTSTAMP:20260421T074457
CREATED:20260413T174742Z
LAST-MODIFIED:20260413T174742Z
UID:10006161-1784808000-1784811600@montfortrenaissance.ca
SUMMARY:Aire ouverte
DESCRIPTION:
URL:https://montfortrenaissance.ca/en/event/aire-ouverte-101/2026-07-23/
LOCATION:Ateliers de l’Élan\, 346 ch. Montréal\, Ottawa\, ON\, K1L 6B3\, Canada
CATEGORIES:Les Ateliers de l'Élan
END:VEVENT
BEGIN:VEVENT
DTSTART;TZID=America/Toronto:20260727T093000
DTEND;TZID=America/Toronto:20260727T100000
DTSTAMP:20260421T074457
CREATED:20260410T132341Z
LAST-MODIFIED:20260410T132341Z
UID:10005824-1785144600-1785146400@montfortrenaissance.ca
SUMMARY:Méditation
DESCRIPTION:
URL:https://montfortrenaissance.ca/en/event/meditation-11/2026-07-27/
LOCATION:Ateliers de l’Élan\, 346 ch. Montréal\, Ottawa\, ON\, K1L 6B3\, Canada
CATEGORIES:Les Ateliers de l'Élan
ORGANIZER;CN="Chantale Lavoie":MAILTO:PSM-pair-aidance@mri.ca
END:VEVENT
BEGIN:VEVENT
DTSTART;TZID=America/Toronto:20260727T100000
DTEND;TZID=America/Toronto:20260727T120000
DTSTAMP:20260421T074457
CREATED:20260410T132423Z
LAST-MODIFIED:20260410T132423Z
UID:10005879-1785146400-1785153600@montfortrenaissance.ca
SUMMARY:Comité journal «Viv(r)e l'Élan»
DESCRIPTION:
URL:https://montfortrenaissance.ca/en/event/comite-journal-vivre-lelan-9/2026-07-27/
LOCATION:Ateliers de l’Élan\, 346 ch. Montréal\, Ottawa\, ON\, K1L 6B3\, Canada
CATEGORIES:Les Ateliers de l'Élan
ORGANIZER;CN="Mario B%C3%A9lisle":MAILTO:mbelisle@mri.ca
END:VEVENT
BEGIN:VEVENT
DTSTART;TZID=America/Toronto:20260728T090000
DTEND;TZID=America/Toronto:20260728T100000
DTSTAMP:20260421T074457
CREATED:20260122T142025Z
LAST-MODIFIED:20260122T142025Z
UID:10005000-1785229200-1785232800@montfortrenaissance.ca
SUMMARY:Réunion des employés.
DESCRIPTION:
URL:https://montfortrenaissance.ca/en/event/reunion-des-employes-2/2026-07-28/
LOCATION:Ateliers de l’Élan\, 346 ch. Montréal\, Ottawa\, ON\, K1L 6B3\, Canada
ORGANIZER;CN="Mario B%C3%A9lisle":MAILTO:mbelisle@mri.ca
END:VEVENT
BEGIN:VEVENT
DTSTART;TZID=America/Toronto:20260728T100000
DTEND;TZID=America/Toronto:20260728T120000
DTSTAMP:20260421T074457
CREATED:20260324T185124Z
LAST-MODIFIED:20260415T125052Z
UID:10005736-1785232800-1785240000@montfortrenaissance.ca
SUMMARY:Théâtre-mise en scène d'une pièce inspirée par Winnie l'ourson (R)
DESCRIPTION:
URL:https://montfortrenaissance.ca/en/event/theatre-mise-en-scene-dune-piece-inspiree-par-winnie-lourson-r/2026-07-28/
LOCATION:Ateliers de l’Élan\, 346 ch. Montréal\, Ottawa\, ON\, K1L 6B3\, Canada
ORGANIZER;CN="Mario B%C3%A9lisle":MAILTO:mbelisle@mri.ca
END:VEVENT
BEGIN:VEVENT
DTSTART;TZID=America/Toronto:20260728T120000
DTEND;TZID=America/Toronto:20260728T130000
DTSTAMP:20260421T074457
CREATED:20260410T142212Z
LAST-MODIFIED:20260410T142212Z
UID:10006004-1785240000-1785243600@montfortrenaissance.ca
SUMMARY:Aire ouverte
DESCRIPTION:
URL:https://montfortrenaissance.ca/en/event/aire-ouverte-97/2026-07-28/
LOCATION:Ateliers de l’Élan\, 346 ch. Montréal\, Ottawa\, ON\, K1L 6B3\, Canada
CATEGORIES:Les Ateliers de l'Élan
ORGANIZER;CN="Mario B%C3%A9lisle":MAILTO:mbelisle@mri.ca
END:VEVENT
BEGIN:VEVENT
DTSTART;TZID=America/Toronto:20260728T130000
DTEND;TZID=America/Toronto:20260728T150000
DTSTAMP:20260421T074457
CREATED:20260410T142357Z
LAST-MODIFIED:20260410T142924Z
UID:10006064-1785243600-1785250800@montfortrenaissance.ca
SUMMARY:Art avec Josie-dessin
DESCRIPTION:
URL:https://montfortrenaissance.ca/en/event/art-avec-josie-dessin-3/2026-07-28/
LOCATION:Ateliers de l’Élan\, 346 ch. Montréal\, Ottawa\, ON\, K1L 6B3\, Canada
CATEGORIES:Les Ateliers de l'Élan
END:VEVENT
END:VCALENDAR