BEGIN:VCALENDAR
VERSION:2.0
PRODID:-//Montfort Renaissance - ECPv6.15.17.1//NONSGML v1.0//EN
CALSCALE:GREGORIAN
METHOD:PUBLISH
X-ORIGINAL-URL:https://montfortrenaissance.ca
X-WR-CALDESC:Évènements pour Montfort Renaissance
REFRESH-INTERVAL;VALUE=DURATION:PT1H
X-Robots-Tag:noindex
X-PUBLISHED-TTL:PT1H
BEGIN:VTIMEZONE
TZID:America/Toronto
BEGIN:DAYLIGHT
TZOFFSETFROM:-0500
TZOFFSETTO:-0400
TZNAME:EDT
DTSTART:20250309T070000
END:DAYLIGHT
BEGIN:STANDARD
TZOFFSETFROM:-0400
TZOFFSETTO:-0500
TZNAME:EST
DTSTART:20251102T060000
END:STANDARD
BEGIN:DAYLIGHT
TZOFFSETFROM:-0500
TZOFFSETTO:-0400
TZNAME:EDT
DTSTART:20260308T070000
END:DAYLIGHT
BEGIN:STANDARD
TZOFFSETFROM:-0400
TZOFFSETTO:-0500
TZNAME:EST
DTSTART:20261101T060000
END:STANDARD
BEGIN:DAYLIGHT
TZOFFSETFROM:-0500
TZOFFSETTO:-0400
TZNAME:EDT
DTSTART:20270314T070000
END:DAYLIGHT
BEGIN:STANDARD
TZOFFSETFROM:-0400
TZOFFSETTO:-0500
TZNAME:EST
DTSTART:20271107T060000
END:STANDARD
END:VTIMEZONE
BEGIN:VEVENT
DTSTART;TZID=America/Toronto:20260421T130000
DTEND;TZID=America/Toronto:20260421T150000
DTSTAMP:20260419T121929
CREATED:20260324T124131Z
LAST-MODIFIED:20260324T124131Z
UID:10005331-1776776400-1776783600@montfortrenaissance.ca
SUMMARY:Art avec Josie-acrylique
DESCRIPTION:
URL:https://montfortrenaissance.ca/event/art-avec-josie-acrylique-4/2026-04-21/
LOCATION:Ateliers de l’Élan\, 346 ch. Montréal\, Ottawa\, ON\, K1L 6B3\, Canada
CATEGORIES:Les Ateliers de l'Élan
END:VEVENT
BEGIN:VEVENT
DTSTART;TZID=America/Toronto:20260428T130000
DTEND;TZID=America/Toronto:20260428T150000
DTSTAMP:20260419T121929
CREATED:20260324T124131Z
LAST-MODIFIED:20260324T124131Z
UID:10005332-1777381200-1777388400@montfortrenaissance.ca
SUMMARY:Art avec Josie-acrylique
DESCRIPTION:
URL:https://montfortrenaissance.ca/event/art-avec-josie-acrylique-4/2026-04-28/
LOCATION:Ateliers de l’Élan\, 346 ch. Montréal\, Ottawa\, ON\, K1L 6B3\, Canada
CATEGORIES:Les Ateliers de l'Élan
END:VEVENT
BEGIN:VEVENT
DTSTART;TZID=America/Toronto:20260505T130000
DTEND;TZID=America/Toronto:20260505T150000
DTSTAMP:20260419T121929
CREATED:20260410T142357Z
LAST-MODIFIED:20260410T142924Z
UID:10006052-1777986000-1777993200@montfortrenaissance.ca
SUMMARY:Art avec Josie-dessin
DESCRIPTION:
URL:https://montfortrenaissance.ca/event/art-avec-josie-dessin-3/2026-05-05/
LOCATION:Ateliers de l’Élan\, 346 ch. Montréal\, Ottawa\, ON\, K1L 6B3\, Canada
CATEGORIES:Les Ateliers de l'Élan
END:VEVENT
BEGIN:VEVENT
DTSTART;TZID=America/Toronto:20260512T130000
DTEND;TZID=America/Toronto:20260512T150000
DTSTAMP:20260419T121929
CREATED:20260410T142357Z
LAST-MODIFIED:20260410T142924Z
UID:10006053-1778590800-1778598000@montfortrenaissance.ca
SUMMARY:Art avec Josie-dessin
DESCRIPTION:
URL:https://montfortrenaissance.ca/event/art-avec-josie-dessin-3/2026-05-12/
LOCATION:Ateliers de l’Élan\, 346 ch. Montréal\, Ottawa\, ON\, K1L 6B3\, Canada
CATEGORIES:Les Ateliers de l'Élan
END:VEVENT
BEGIN:VEVENT
DTSTART;TZID=America/Toronto:20260526T130000
DTEND;TZID=America/Toronto:20260526T150000
DTSTAMP:20260419T121929
CREATED:20260410T142357Z
LAST-MODIFIED:20260410T142924Z
UID:10006055-1779800400-1779807600@montfortrenaissance.ca
SUMMARY:Art avec Josie-dessin
DESCRIPTION:
URL:https://montfortrenaissance.ca/event/art-avec-josie-dessin-3/2026-05-26/
LOCATION:Ateliers de l’Élan\, 346 ch. Montréal\, Ottawa\, ON\, K1L 6B3\, Canada
CATEGORIES:Les Ateliers de l'Élan
END:VEVENT
BEGIN:VEVENT
DTSTART;TZID=America/Toronto:20260602T130000
DTEND;TZID=America/Toronto:20260602T150000
DTSTAMP:20260419T121929
CREATED:20260410T142357Z
LAST-MODIFIED:20260410T142924Z
UID:10006056-1780405200-1780412400@montfortrenaissance.ca
SUMMARY:Art avec Josie-dessin
DESCRIPTION:
URL:https://montfortrenaissance.ca/event/art-avec-josie-dessin-3/2026-06-02/
LOCATION:Ateliers de l’Élan\, 346 ch. Montréal\, Ottawa\, ON\, K1L 6B3\, Canada
CATEGORIES:Les Ateliers de l'Élan
END:VEVENT
BEGIN:VEVENT
DTSTART;TZID=America/Toronto:20260609T130000
DTEND;TZID=America/Toronto:20260609T150000
DTSTAMP:20260419T121929
CREATED:20260410T142357Z
LAST-MODIFIED:20260410T142924Z
UID:10006057-1781010000-1781017200@montfortrenaissance.ca
SUMMARY:Art avec Josie-dessin
DESCRIPTION:
URL:https://montfortrenaissance.ca/event/art-avec-josie-dessin-3/2026-06-09/
LOCATION:Ateliers de l’Élan\, 346 ch. Montréal\, Ottawa\, ON\, K1L 6B3\, Canada
CATEGORIES:Les Ateliers de l'Élan
END:VEVENT
BEGIN:VEVENT
DTSTART;TZID=America/Toronto:20260616T130000
DTEND;TZID=America/Toronto:20260616T150000
DTSTAMP:20260419T121929
CREATED:20260410T142357Z
LAST-MODIFIED:20260410T142924Z
UID:10006058-1781614800-1781622000@montfortrenaissance.ca
SUMMARY:Art avec Josie-dessin
DESCRIPTION:
URL:https://montfortrenaissance.ca/event/art-avec-josie-dessin-3/2026-06-16/
LOCATION:Ateliers de l’Élan\, 346 ch. Montréal\, Ottawa\, ON\, K1L 6B3\, Canada
CATEGORIES:Les Ateliers de l'Élan
END:VEVENT
BEGIN:VEVENT
DTSTART;TZID=America/Toronto:20260623T130000
DTEND;TZID=America/Toronto:20260623T150000
DTSTAMP:20260419T121929
CREATED:20260410T142357Z
LAST-MODIFIED:20260410T142924Z
UID:10006059-1782219600-1782226800@montfortrenaissance.ca
SUMMARY:Art avec Josie-dessin
DESCRIPTION:
URL:https://montfortrenaissance.ca/event/art-avec-josie-dessin-3/2026-06-23/
LOCATION:Ateliers de l’Élan\, 346 ch. Montréal\, Ottawa\, ON\, K1L 6B3\, Canada
CATEGORIES:Les Ateliers de l'Élan
END:VEVENT
BEGIN:VEVENT
DTSTART;TZID=America/Toronto:20260630T130000
DTEND;TZID=America/Toronto:20260630T150000
DTSTAMP:20260419T121929
CREATED:20260410T142357Z
LAST-MODIFIED:20260410T142924Z
UID:10006060-1782824400-1782831600@montfortrenaissance.ca
SUMMARY:Art avec Josie-dessin
DESCRIPTION:
URL:https://montfortrenaissance.ca/event/art-avec-josie-dessin-3/2026-06-30/
LOCATION:Ateliers de l’Élan\, 346 ch. Montréal\, Ottawa\, ON\, K1L 6B3\, Canada
CATEGORIES:Les Ateliers de l'Élan
END:VEVENT
BEGIN:VEVENT
DTSTART;TZID=America/Toronto:20260707T130000
DTEND;TZID=America/Toronto:20260707T150000
DTSTAMP:20260419T121929
CREATED:20260410T142357Z
LAST-MODIFIED:20260410T142924Z
UID:10006061-1783429200-1783436400@montfortrenaissance.ca
SUMMARY:Art avec Josie-dessin
DESCRIPTION:
URL:https://montfortrenaissance.ca/event/art-avec-josie-dessin-3/2026-07-07/
LOCATION:Ateliers de l’Élan\, 346 ch. Montréal\, Ottawa\, ON\, K1L 6B3\, Canada
CATEGORIES:Les Ateliers de l'Élan
END:VEVENT
BEGIN:VEVENT
DTSTART;TZID=America/Toronto:20260714T130000
DTEND;TZID=America/Toronto:20260714T150000
DTSTAMP:20260419T121929
CREATED:20260410T142357Z
LAST-MODIFIED:20260410T142924Z
UID:10006062-1784034000-1784041200@montfortrenaissance.ca
SUMMARY:Art avec Josie-dessin
DESCRIPTION:
URL:https://montfortrenaissance.ca/event/art-avec-josie-dessin-3/2026-07-14/
LOCATION:Ateliers de l’Élan\, 346 ch. Montréal\, Ottawa\, ON\, K1L 6B3\, Canada
CATEGORIES:Les Ateliers de l'Élan
END:VEVENT
BEGIN:VEVENT
DTSTART;TZID=America/Toronto:20260721T130000
DTEND;TZID=America/Toronto:20260721T150000
DTSTAMP:20260419T121929
CREATED:20260410T142357Z
LAST-MODIFIED:20260410T142924Z
UID:10006063-1784638800-1784646000@montfortrenaissance.ca
SUMMARY:Art avec Josie-dessin
DESCRIPTION:
URL:https://montfortrenaissance.ca/event/art-avec-josie-dessin-3/2026-07-21/
LOCATION:Ateliers de l’Élan\, 346 ch. Montréal\, Ottawa\, ON\, K1L 6B3\, Canada
CATEGORIES:Les Ateliers de l'Élan
END:VEVENT
BEGIN:VEVENT
DTSTART;TZID=America/Toronto:20260728T130000
DTEND;TZID=America/Toronto:20260728T150000
DTSTAMP:20260419T121929
CREATED:20260410T142357Z
LAST-MODIFIED:20260410T142924Z
UID:10006064-1785243600-1785250800@montfortrenaissance.ca
SUMMARY:Art avec Josie-dessin
DESCRIPTION:
URL:https://montfortrenaissance.ca/event/art-avec-josie-dessin-3/2026-07-28/
LOCATION:Ateliers de l’Élan\, 346 ch. Montréal\, Ottawa\, ON\, K1L 6B3\, Canada
CATEGORIES:Les Ateliers de l'Élan
END:VEVENT
BEGIN:VEVENT
DTSTART;TZID=America/Toronto:20260804T130000
DTEND;TZID=America/Toronto:20260804T150000
DTSTAMP:20260419T121929
CREATED:20260410T142357Z
LAST-MODIFIED:20260410T142924Z
UID:10006065-1785848400-1785855600@montfortrenaissance.ca
SUMMARY:Art avec Josie-dessin
DESCRIPTION:
URL:https://montfortrenaissance.ca/event/art-avec-josie-dessin-3/2026-08-04/
LOCATION:Ateliers de l’Élan\, 346 ch. Montréal\, Ottawa\, ON\, K1L 6B3\, Canada
CATEGORIES:Les Ateliers de l'Élan
END:VEVENT
BEGIN:VEVENT
DTSTART;TZID=America/Toronto:20260811T130000
DTEND;TZID=America/Toronto:20260811T150000
DTSTAMP:20260419T121929
CREATED:20260410T142357Z
LAST-MODIFIED:20260410T142924Z
UID:10006066-1786453200-1786460400@montfortrenaissance.ca
SUMMARY:Art avec Josie-dessin
DESCRIPTION:
URL:https://montfortrenaissance.ca/event/art-avec-josie-dessin-3/2026-08-11/
LOCATION:Ateliers de l’Élan\, 346 ch. Montréal\, Ottawa\, ON\, K1L 6B3\, Canada
CATEGORIES:Les Ateliers de l'Élan
END:VEVENT
BEGIN:VEVENT
DTSTART;TZID=America/Toronto:20260818T130000
DTEND;TZID=America/Toronto:20260818T150000
DTSTAMP:20260419T121929
CREATED:20260410T142357Z
LAST-MODIFIED:20260410T142924Z
UID:10006067-1787058000-1787065200@montfortrenaissance.ca
SUMMARY:Art avec Josie-dessin
DESCRIPTION:
URL:https://montfortrenaissance.ca/event/art-avec-josie-dessin-3/2026-08-18/
LOCATION:Ateliers de l’Élan\, 346 ch. Montréal\, Ottawa\, ON\, K1L 6B3\, Canada
CATEGORIES:Les Ateliers de l'Élan
END:VEVENT
BEGIN:VEVENT
DTSTART;TZID=America/Toronto:20260825T130000
DTEND;TZID=America/Toronto:20260825T150000
DTSTAMP:20260419T121929
CREATED:20260410T142357Z
LAST-MODIFIED:20260410T142924Z
UID:10006068-1787662800-1787670000@montfortrenaissance.ca
SUMMARY:Art avec Josie-dessin
DESCRIPTION:
URL:https://montfortrenaissance.ca/event/art-avec-josie-dessin-3/2026-08-25/
LOCATION:Ateliers de l’Élan\, 346 ch. Montréal\, Ottawa\, ON\, K1L 6B3\, Canada
CATEGORIES:Les Ateliers de l'Élan
END:VEVENT
BEGIN:VEVENT
DTSTART;TZID=America/Toronto:20260901T130000
DTEND;TZID=America/Toronto:20260901T150000
DTSTAMP:20260419T121929
CREATED:20260410T142357Z
LAST-MODIFIED:20260410T142924Z
UID:10006069-1788267600-1788274800@montfortrenaissance.ca
SUMMARY:Art avec Josie-dessin
DESCRIPTION:
URL:https://montfortrenaissance.ca/event/art-avec-josie-dessin-3/2026-09-01/
LOCATION:Ateliers de l’Élan\, 346 ch. Montréal\, Ottawa\, ON\, K1L 6B3\, Canada
CATEGORIES:Les Ateliers de l'Élan
END:VEVENT
BEGIN:VEVENT
DTSTART;TZID=America/Toronto:20260908T130000
DTEND;TZID=America/Toronto:20260908T150000
DTSTAMP:20260419T121929
CREATED:20260410T142357Z
LAST-MODIFIED:20260410T142924Z
UID:10006070-1788872400-1788879600@montfortrenaissance.ca
SUMMARY:Art avec Josie-dessin
DESCRIPTION:
URL:https://montfortrenaissance.ca/event/art-avec-josie-dessin-3/2026-09-08/
LOCATION:Ateliers de l’Élan\, 346 ch. Montréal\, Ottawa\, ON\, K1L 6B3\, Canada
CATEGORIES:Les Ateliers de l'Élan
END:VEVENT
BEGIN:VEVENT
DTSTART;TZID=America/Toronto:20260915T130000
DTEND;TZID=America/Toronto:20260915T150000
DTSTAMP:20260419T121929
CREATED:20260410T142357Z
LAST-MODIFIED:20260410T142924Z
UID:10006071-1789477200-1789484400@montfortrenaissance.ca
SUMMARY:Art avec Josie-dessin
DESCRIPTION:
URL:https://montfortrenaissance.ca/event/art-avec-josie-dessin-3/2026-09-15/
LOCATION:Ateliers de l’Élan\, 346 ch. Montréal\, Ottawa\, ON\, K1L 6B3\, Canada
CATEGORIES:Les Ateliers de l'Élan
END:VEVENT
BEGIN:VEVENT
DTSTART;TZID=America/Toronto:20260922T130000
DTEND;TZID=America/Toronto:20260922T150000
DTSTAMP:20260419T121929
CREATED:20260410T142357Z
LAST-MODIFIED:20260410T142924Z
UID:10006072-1790082000-1790089200@montfortrenaissance.ca
SUMMARY:Art avec Josie-dessin
DESCRIPTION:
URL:https://montfortrenaissance.ca/event/art-avec-josie-dessin-3/2026-09-22/
LOCATION:Ateliers de l’Élan\, 346 ch. Montréal\, Ottawa\, ON\, K1L 6B3\, Canada
CATEGORIES:Les Ateliers de l'Élan
END:VEVENT
BEGIN:VEVENT
DTSTART;TZID=America/Toronto:20260929T130000
DTEND;TZID=America/Toronto:20260929T150000
DTSTAMP:20260419T121929
CREATED:20260410T142357Z
LAST-MODIFIED:20260410T142924Z
UID:10006073-1790686800-1790694000@montfortrenaissance.ca
SUMMARY:Art avec Josie-dessin
DESCRIPTION:
URL:https://montfortrenaissance.ca/event/art-avec-josie-dessin-3/2026-09-29/
LOCATION:Ateliers de l’Élan\, 346 ch. Montréal\, Ottawa\, ON\, K1L 6B3\, Canada
CATEGORIES:Les Ateliers de l'Élan
END:VEVENT
BEGIN:VEVENT
DTSTART;TZID=America/Toronto:20261006T130000
DTEND;TZID=America/Toronto:20261006T150000
DTSTAMP:20260419T121929
CREATED:20260410T142357Z
LAST-MODIFIED:20260410T142924Z
UID:10006074-1791291600-1791298800@montfortrenaissance.ca
SUMMARY:Art avec Josie-dessin
DESCRIPTION:
URL:https://montfortrenaissance.ca/event/art-avec-josie-dessin-3/2026-10-06/
LOCATION:Ateliers de l’Élan\, 346 ch. Montréal\, Ottawa\, ON\, K1L 6B3\, Canada
CATEGORIES:Les Ateliers de l'Élan
END:VEVENT
BEGIN:VEVENT
DTSTART;TZID=America/Toronto:20261013T130000
DTEND;TZID=America/Toronto:20261013T150000
DTSTAMP:20260419T121929
CREATED:20260410T142357Z
LAST-MODIFIED:20260410T142924Z
UID:10006075-1791896400-1791903600@montfortrenaissance.ca
SUMMARY:Art avec Josie-dessin
DESCRIPTION:
URL:https://montfortrenaissance.ca/event/art-avec-josie-dessin-3/2026-10-13/
LOCATION:Ateliers de l’Élan\, 346 ch. Montréal\, Ottawa\, ON\, K1L 6B3\, Canada
CATEGORIES:Les Ateliers de l'Élan
END:VEVENT
BEGIN:VEVENT
DTSTART;TZID=America/Toronto:20261020T130000
DTEND;TZID=America/Toronto:20261020T150000
DTSTAMP:20260419T121929
CREATED:20260410T142357Z
LAST-MODIFIED:20260410T142924Z
UID:10006076-1792501200-1792508400@montfortrenaissance.ca
SUMMARY:Art avec Josie-dessin
DESCRIPTION:
URL:https://montfortrenaissance.ca/event/art-avec-josie-dessin-3/2026-10-20/
LOCATION:Ateliers de l’Élan\, 346 ch. Montréal\, Ottawa\, ON\, K1L 6B3\, Canada
CATEGORIES:Les Ateliers de l'Élan
END:VEVENT
BEGIN:VEVENT
DTSTART;TZID=America/Toronto:20261027T130000
DTEND;TZID=America/Toronto:20261027T150000
DTSTAMP:20260419T121929
CREATED:20260410T142357Z
LAST-MODIFIED:20260410T142924Z
UID:10006077-1793106000-1793113200@montfortrenaissance.ca
SUMMARY:Art avec Josie-dessin
DESCRIPTION:
URL:https://montfortrenaissance.ca/event/art-avec-josie-dessin-3/2026-10-27/
LOCATION:Ateliers de l’Élan\, 346 ch. Montréal\, Ottawa\, ON\, K1L 6B3\, Canada
CATEGORIES:Les Ateliers de l'Élan
END:VEVENT
BEGIN:VEVENT
DTSTART;TZID=America/Toronto:20261103T130000
DTEND;TZID=America/Toronto:20261103T150000
DTSTAMP:20260419T121929
CREATED:20260410T142357Z
LAST-MODIFIED:20260410T142924Z
UID:10006078-1793710800-1793718000@montfortrenaissance.ca
SUMMARY:Art avec Josie-dessin
DESCRIPTION:
URL:https://montfortrenaissance.ca/event/art-avec-josie-dessin-3/2026-11-03/
LOCATION:Ateliers de l’Élan\, 346 ch. Montréal\, Ottawa\, ON\, K1L 6B3\, Canada
CATEGORIES:Les Ateliers de l'Élan
END:VEVENT
BEGIN:VEVENT
DTSTART;TZID=America/Toronto:20261110T130000
DTEND;TZID=America/Toronto:20261110T150000
DTSTAMP:20260419T121929
CREATED:20260410T142357Z
LAST-MODIFIED:20260410T142924Z
UID:10006079-1794315600-1794322800@montfortrenaissance.ca
SUMMARY:Art avec Josie-dessin
DESCRIPTION:
URL:https://montfortrenaissance.ca/event/art-avec-josie-dessin-3/2026-11-10/
LOCATION:Ateliers de l’Élan\, 346 ch. Montréal\, Ottawa\, ON\, K1L 6B3\, Canada
CATEGORIES:Les Ateliers de l'Élan
END:VEVENT
BEGIN:VEVENT
DTSTART;TZID=America/Toronto:20261117T130000
DTEND;TZID=America/Toronto:20261117T150000
DTSTAMP:20260419T121929
CREATED:20260410T142357Z
LAST-MODIFIED:20260410T142924Z
UID:10006080-1794920400-1794927600@montfortrenaissance.ca
SUMMARY:Art avec Josie-dessin
DESCRIPTION:
URL:https://montfortrenaissance.ca/event/art-avec-josie-dessin-3/2026-11-17/
LOCATION:Ateliers de l’Élan\, 346 ch. Montréal\, Ottawa\, ON\, K1L 6B3\, Canada
CATEGORIES:Les Ateliers de l'Élan
END:VEVENT
END:VCALENDAR